BEGIN:VCALENDAR
VERSION:2.0
PRODID:-//Field Advisor - ECPv6.15.20//NONSGML v1.0//EN
CALSCALE:GREGORIAN
METHOD:PUBLISH
X-WR-CALNAME:Field Advisor
X-ORIGINAL-URL:https://fieldadvisor.org
X-WR-CALDESC:Events for Field Advisor
REFRESH-INTERVAL;VALUE=DURATION:PT1H
X-Robots-Tag:noindex
X-PUBLISHED-TTL:PT1H
BEGIN:VTIMEZONE
TZID:America/Chicago
BEGIN:DAYLIGHT
TZOFFSETFROM:-0600
TZOFFSETTO:-0500
TZNAME:CDT
DTSTART:20240310T080000
END:DAYLIGHT
BEGIN:STANDARD
TZOFFSETFROM:-0500
TZOFFSETTO:-0600
TZNAME:CST
DTSTART:20241103T070000
END:STANDARD
BEGIN:DAYLIGHT
TZOFFSETFROM:-0600
TZOFFSETTO:-0500
TZNAME:CDT
DTSTART:20250309T080000
END:DAYLIGHT
BEGIN:STANDARD
TZOFFSETFROM:-0500
TZOFFSETTO:-0600
TZNAME:CST
DTSTART:20251102T070000
END:STANDARD
BEGIN:DAYLIGHT
TZOFFSETFROM:-0600
TZOFFSETTO:-0500
TZNAME:CDT
DTSTART:20260308T080000
END:DAYLIGHT
BEGIN:STANDARD
TZOFFSETFROM:-0500
TZOFFSETTO:-0600
TZNAME:CST
DTSTART:20261101T070000
END:STANDARD
END:VTIMEZONE
BEGIN:VEVENT
DTSTART;TZID=America/Chicago:20251204T173000
DTEND;TZID=America/Chicago:20251204T193000
DTSTAMP:20260423T063416
CREATED:20251106T211947Z
LAST-MODIFIED:20251107T140131Z
UID:10000103-1764869400-1764876600@fieldadvisor.org
SUMMARY:Dinner & Data: Cover Crop System Results
DESCRIPTION:Thursday\, December 4\, 2025 \nSt. Clair County Farm Bureau Office \n1478 East State Route 15\, Belleville\, IL 62221 \nRegistration: 5:15 – 5:30 PM \nProgram: 5:30 – 7:30 PM \nBring your appetite and pull up a chair for an evening of good food and real-world results. Join the Illinois Soybean Association and Illinois Extension to explore 2025 cover crop research\, harvest data\, and cover crop economics in soybean systems. CCA credits will be available. \nAgenda: \n“Cover Crop Economics in Soybean Systems\,” Abigail Peterson\, CCA\, Illinois Soybean Association \n“Looking Back at Cover Crop Research in 2025\,” Nathan Johanning\, Illinois Extension \nDinner will be served. \nRegister Here\n 
URL:https://fieldadvisor.org/calendar/dinner-data-cover-crop-system-results/
LOCATION:St. Clair County Farm Bureau\, 1478 East State Route 15\, Belleville\, 62221\, United States
CATEGORIES:Featured Events
ORGANIZER;CN="Illinois Soybean Association":MAILTO:ilsoy@ilsoy.org
END:VEVENT
END:VCALENDAR